BEGIN:VCALENDAR
VERSION:2.0
PRODID:-//wp-events-plugin.com//7.2.3.1//EN
TZID:America/Edmonton
X-WR-TIMEZONE:America/Edmonton
BEGIN:VEVENT
UID:90@livewirecalgary.com
DTSTART;TZID=America/Edmonton;VALUE=DATE:20241018
DTEND;TZID=America/Edmonton;VALUE=DATE:20241020
DTSTAMP:20241003T162033Z
URL:https://livewirecalgary.com/events/rocky-mountain-wine-food-festival/
SUMMARY:Rocky Mountain Wine & Food Festival
DESCRIPTION:The Rocky Mountain Wine &amp\; Food Festival (RMWFF)\, presente
 d by Sobeys Liquor and Safeway Liquor\, is gearing up to welcome Calgarian
 s to a one-of-a-kind food and beverage experience\, October 18 &amp\; 19 a
 t the BMO Centre. This year's event will feature more than 200 booths — 
 filled with unique sampling opportunities from local restaurants\, winerie
 s\, breweries\, cideries\, and distilleries. RMWFF promises an extraordina
 ry fusion of flavours\, culture\, and community spirit\, offering somethin
 g for everyone — from connoisseurs to the sober curious. Tickets\, Rocky
  Passes\, and VIP Experiences are available at rockymountainwine.com\, wit
 h sampling coupons available for purchase upon arrival.
ATTACH;FMTTYPE=image/jpeg:https://i0.wp.com/livewirecalgary.com/wp-content
 /uploads/2024/10/2023_09_23_ROCKY_140-2.jpeg?fit=640%2C427&ssl=1
CATEGORIES:Festivals
LOCATION:BMO Centre\, 20 Round Up Way SE\, Calgary\, Alberta\, T2G 2W1\, St
 ampede Park\, Canada
X-APPLE-STRUCTURED-LOCATION;VALUE=URI;X-ADDRESS=20 Round Up Way SE\, Calgar
 y\, Alberta\, T2G 2W1\, Stampede Park\, Canada;X-APPLE-RADIUS=100;X-TITLE=
 BMO Centre:geo:0,0
END:VEVENT
BEGIN:VTIMEZONE
TZID:America/Edmonton
X-LIC-LOCATION:America/Edmonton
BEGIN:DAYLIGHT
DTSTART:20240310T030000
TZOFFSETFROM:-0700
TZOFFSETTO:-0600
TZNAME:MDT
END:DAYLIGHT
END:VTIMEZONE
END:VCALENDAR